BEGIN:VCALENDAR
VERSION:2.0
PRODID:-//hacksw/handcal//NONSGML v1.0//EN
BEGIN:VEVENT
SUMMARY:VILLENAVE HBC 2 / S C M HB 18F
UID:faf91d92-1502-4b79-a9fa-025081888fcb
DTSTART:20260322T100000Z
DTEND:20260322T230000Z
LOCATION:Localisation   
CATEGORIES:Sportif
STATUS:
URL;VALUE=URI:https://www.monsegurhandball.com/evenements/2026/03/22/villenave-hbc-2-s-c-m-hb-18f-2374237
END:VEVENT
END:VCALENDAR
