BEGIN:VCALENDAR
VERSION:2.0
PRODID:-//hacksw/handcal//NONSGML v1.0//EN
BEGIN:VEVENT
SUMMARY:U S TALENCE HANDBALL 2 / S C M HB +16G2
UID:2625a8e5-fe3c-4c19-9c3e-e6c3118fced2
DTSTART:20260329T120000Z
DTEND:20260329T230000Z
LOCATION:Localisation   
CATEGORIES:Sportif
STATUS:
URL;VALUE=URI:https://www.monsegurhandball.com/evenements/2026/03/29/u-s-talence-handball-2-s-c-m-hb-16g2-2431896
END:VEVENT
END:VCALENDAR
