BEGIN:VCALENDAR
VERSION:2.0
PRODID:-//hacksw/handcal//NONSGML v1.0//EN
BEGIN:VEVENT
SUMMARY:S C M HB -13F / CARBON-BLANC/AMBARES
UID:6723e618-b4dd-4fec-a57e-9fd2d9f3e006
DTSTART:20260425T104500Z
DTEND:20260425T220000Z
LOCATION:Localisation   
CATEGORIES:Sportif
STATUS:
URL;VALUE=URI:https://www.monsegurhandball.com/evenements/2026/04/25/s-c-m-hb-13f-carbon-blancambares-2431916
END:VEVENT
END:VCALENDAR
