BEGIN:VCALENDAR
VERSION:2.0
PRODID:-//hacksw/handcal//NONSGML v1.0//EN
BEGIN:VEVENT
SUMMARY:S C M HB 2 +16 G2 / US PAREMPUYRE HANDBALL 2
UID:8ac51364-d340-411f-a63d-0063f716787f
DTSTART:20260425T184500Z
DTEND:20260425T220000Z
LOCATION:Localisation   
CATEGORIES:Sportif
STATUS:
URL;VALUE=URI:https://www.monsegurhandball.com/evenements/2026/04/25/s-c-m-hb-2-16-g2-us-parempuyre-handball-2-2431922
END:VEVENT
END:VCALENDAR
