BEGIN:VCALENDAR
VERSION:2.0
PRODID:-//hacksw/handcal//NONSGML v1.0//EN
BEGIN:VEVENT
SUMMARY:S C M HB +16 G2 / UNION SPORTIVE TALENCE HANDBALL 2
UID:bac3b2c1-7f42-4f25-922f-6df18d67cf2e
DTSTART:20260502T180000Z
DTEND:20260502T220000Z
LOCATION:Localisation   
CATEGORIES:Sportif
STATUS:
URL;VALUE=URI:https://www.monsegurhandball.com/evenements/2026/05/02/s-c-m-hb-16-g2-union-sportive-talence-handball-2-2431924
END:VEVENT
END:VCALENDAR
