BEGIN:VCALENDAR
VERSION:2.0
PRODID:-//hacksw/handcal//NONSGML v1.0//EN
BEGIN:VEVENT
SUMMARY:SC M HB -13 F / Exempt 1
UID:f034660d-6096-4c73-b1de-c217841dbea9
DTSTART:20260501T220000Z
DTEND:20260502T220000Z
LOCATION:Localisation   
CATEGORIES:Sportif
STATUS:
URL;VALUE=URI:https://www.monsegurhandball.com/evenements/2026/05/02/sc-m-hb-13-f-exempt-1-2431920
END:VEVENT
END:VCALENDAR
