BEGIN:VCALENDAR
VERSION:2.0
PRODID:-//hacksw/handcal//NONSGML v1.0//EN
BEGIN:VEVENT
SUMMARY:CARBON-BLANC/AMBARES / S C M HB -13F
UID:1858faa8-703e-4e63-8d8b-4020956fd2f8
DTSTART:20260509T150000Z
DTEND:20260509T220000Z
LOCATION:Localisation   
CATEGORIES:Sportif
STATUS:
URL;VALUE=URI:https://www.monsegurhandball.com/evenements/2026/05/09/carbon-blancambares-s-c-m-hb-13f-2431921
END:VEVENT
END:VCALENDAR
