BEGIN:VCALENDAR
VERSION:2.0
PRODID:-//hacksw/handcal//NONSGML v1.0//EN
BEGIN:VEVENT
SUMMARY:US PAREMPUYRE HANDBALL 2 / S C M HB +16G2
UID:089dcff5-cf7d-41c6-ae6b-01255106e857
DTSTART:20260508T220000Z
DTEND:20260509T220000Z
LOCATION:Localisation   
CATEGORIES:Sportif
STATUS:
URL;VALUE=URI:https://www.monsegurhandball.com/evenements/2026/05/09/us-parempuyre-handball-2-s-c-m-hb-16g2-2431926
END:VEVENT
END:VCALENDAR
