BEGIN:VCALENDAR
VERSION:2.0
PRODID:-//hacksw/handcal//NONSGML v1.0//EN
BEGIN:VEVENT
SUMMARY:COUTRAS / S C M HB 11G
UID:c1d93781-1710-48e8-ad70-f9246b4014b3
DTSTART:20260510T120000Z
DTEND:20260510T220000Z
LOCATION:Localisation   
CATEGORIES:Sportif
STATUS:
URL;VALUE=URI:https://www.monsegurhandball.com/evenements/2026/05/10/coutras-s-c-m-hb-11g-2373914
END:VEVENT
END:VCALENDAR
